BEGIN:VCALENDAR
VERSION:2.0
PRODID:-//Victoria Kastner - ECPv6.15.16//NONSGML v1.0//EN
CALSCALE:GREGORIAN
METHOD:PUBLISH
X-ORIGINAL-URL:https://victoriakastner.com
X-WR-CALDESC:Events for Victoria Kastner
REFRESH-INTERVAL;VALUE=DURATION:PT1H
X-Robots-Tag:noindex
X-PUBLISHED-TTL:PT1H
BEGIN:VTIMEZONE
TZID:UTC
BEGIN:STANDARD
TZOFFSETFROM:+0000
TZOFFSETTO:+0000
TZNAME:UTC
DTSTART:20210101T000000
END:STANDARD
END:VTIMEZONE
BEGIN:VEVENT
DTSTART;TZID=UTC:20220718T160000
DTEND;TZID=UTC:20220718T170000
DTSTAMP:20260422T003147
CREATED:20220510T002130Z
LAST-MODIFIED:20220510T002130Z
UID:1289-1658160000-1658163600@victoriakastner.com
SUMMARY:Julia Morgan: An Intimate Biography of the Trailblazing Architect with Victoria Kastner at The Mount
DESCRIPTION:In its 29th year\, The Mount’s annual Summer Lecture Series highlights recent works of memoir and biography. Join us for an eclectic mix of stories about historical figures and contemporary underrepresented voices. \nVictoria Kastner‘s new biography—featuring over 150 archival images and full-color photographs printed throughout—introduces Julia Morgan as a pioneering architect and a captivating individual. This compelling biography draws on interviews\, letters\, and Morgan’s diaries\, including never-before-seen reflections on faith\, art\, and her life experiences. Morgan’s friendship with Hearst\, her passion for California’s landscape\, her struggles with familial dementia\, and her devotion to architecture reveal her to have been a singularly brilliant and determined artist. \n“Handsome and comprehensive . . . Victoria Kastner’s words\, along with Alexander Vertikoff’s photography\, provide a sweeping overview of Julia Morgan’s vast\, versatile body of work. You’ll want to get a hard copy of this book; e-readers don’t do justice to the photos or the layout. It’s a volume to hold in your hands and savor.”\n—San Francisco Chronicle \nThe Mount is a Massachusetts Cultural Council UP designated organization welcoming participants of all disabilities. Please contact The Mount at 413-551-5100 or by email\, info@edithwharton.org\, to discuss accommodations needed to participate fully in this event. \n\n\n$25 Mount Member\, $30 General Admission\nTickets are available for Mount members on Wednesday\, May 11\, with sales open to the general public on Friday\, May 13.\nNot a member? Contact Allison at 413-551-5112 to find out why Members Make the Difference.\nAll lectures will take place in an outdoor\, open-sided tent. We look forward to seeing you rain or shine!\nBooks are available for purchase through The Mount’s Bookstore before and during the event.
URL:https://victoriakastner.com/event/julia-morgan-an-intimate-biography-of-the-trailblazing-architect-with-victoria-kastner-at-the-mount/
LOCATION:The Mount\, Edith Wharton’s Home\, 2 Plunkett Street\, Lenox\, MA\, 01240-0974\, United States
CATEGORIES:Lecture,Sign book
ATTACH;FMTTYPE=image/png:https://victoriakastner.com/wp-content/uploads/2022/05/Screen-Shot-2022-05-09-at-4.52.39-PM.png
END:VEVENT
BEGIN:VEVENT
DTSTART;TZID=UTC:20220506T103000
DTEND;TZID=UTC:20220506T103000
DTSTAMP:20260422T003147
CREATED:20220421T041043Z
LAST-MODIFIED:20220421T042010Z
UID:1201-1651833000-1651833000@victoriakastner.com
SUMMARY:Morning Tea in the Main House of the Robinson Estate
DESCRIPTION:We invite the Fellows to a lecture and book signing by\nVictoria Kastner \n\n\n\nMorning Tea in the Main House of the Robinson Estate\n\n\n\n\n\n\n\n\n\nFriday\, May 6th\, 2022\nat 10:30 am \n\n\nReservations are $100 \nReservations include a copy of Julia Morgan: An Intimate Biography of the Trailblazing Architect. \n\n\n\n\n\n\n\n\n\n\n\n\nThis new biography – featuring over 150 archival images and full-color photographs printed throughout – introduces Julia Morgan as both a pioneering architect and a captivating individual. \nJulia Morgan was a lifelong trailblazer. She was the first woman admitted to study architecture at the École des Beaux-Arts in Paris and the first licensed to practice architecture in California. Over the first half of the 20th century\, she left an indelible mark on the American West. Of her remarkable 700 creations\, the most iconic is Hearst Castle. Morgan spent thirty years constructing this opulent estate on the California coast for the newspaper magnate William Randolph Hearst—forging a lifelong friendship and creative partnership with him. Together\, they built a spectacular and unequaled residence that once hosted the biggest stars of Hollywood’s golden age\, and that now welcomes hundreds of thousands of visitors each year. \n\n\n\n\n For our guests’ safety\, proof of vaccination is required for entry to all Friends-sponsored events at the Virginia     Robinson Gardens. This Covid-19 safety protocol was established at the discretion of the Friends of Robinson  Gardens Executive Board. Protocols will be revised and updated as the situation changes. If you have not already submitted your proof of vaccination to FRG\, please do so by texting a copy to (424) 599-1716. Thank you for your understanding. \nFor questions\, please email info@robinsongardens.org or call (310) 550-2068. \n(This Event is for Fellows of the Robinson Gardens only.)
URL:https://victoriakastner.com/event/morning-tea-in-the-main-house-of-the-robinson-estate/
LOCATION:Virginia Robinson Gardens\, 1008 Elden Way\, Beverly Hills\, CA\, 90210\, United States
CATEGORIES:Lecture,Sign book
ATTACH;FMTTYPE=image/png:https://victoriakastner.com/wp-content/uploads/2022/04/Screen-Shot-2022-04-20-at-4.46.45-PM.png
END:VEVENT
END:VCALENDAR