BEGIN:VCALENDAR
VERSION:2.0
PRODID:-//Victoria Kastner - ECPv6.15.16//NONSGML v1.0//EN
CALSCALE:GREGORIAN
METHOD:PUBLISH
X-WR-CALNAME:Victoria Kastner
X-ORIGINAL-URL:https://victoriakastner.com
X-WR-CALDESC:Events for Victoria Kastner
REFRESH-INTERVAL;VALUE=DURATION:PT1H
X-Robots-Tag:noindex
X-PUBLISHED-TTL:PT1H
BEGIN:VTIMEZONE
TZID:UTC
BEGIN:STANDARD
TZOFFSETFROM:+0000
TZOFFSETTO:+0000
TZNAME:UTC
DTSTART:20230101T000000
END:STANDARD
END:VTIMEZONE
BEGIN:VEVENT
DTSTART;TZID=UTC:20241010T180000
DTEND;TZID=UTC:20241010T200000
DTSTAMP:20260421T193528
CREATED:20240820T202421Z
LAST-MODIFIED:20240820T202421Z
UID:5235-1728583200-1728590400@victoriakastner.com
SUMMARY:AIA Cincinnati - Women You Should Know Series: Julia Morgan
DESCRIPTION:Presented as part of The Mercantile Library’s Allgood-McLean: Women You Should Know series by AIA Cincinnati’s CRAN and Women in Architecture.\nArchitectural historian Victoria Kastner will speak about her new book\, Julia Morgan: An Intimate Biography of the Trailblazing Architect\, which provides the first in-depth look at Morgan’s fascinating private life\, as well as her remarkable career. In 1902\, Julia Morgan became the first woman to graduate from the renowned architecture program at the École des Beaux-Arts in Paris. In 1904 she became California’s first licensed female architect. And in 2014 the American Institute of Architects posthumously awarded her the Gold Medal\, as its first female recipient. Best known as the designer of William Randolph Hearst’s lavish estate at San Simeon\, on which she worked for nearly thirty years\, Julia Morgan built an astonishing seven hundred additional projects throughout the west. Kastner will not only share new information about many of these buildings; she will also reveal her new discoveries about Julia Morgan’s inspiring personal life\, which was as exceptional as her distinguished career. \nAbout the Author:\nVictoria Kastner was the official historian at Hearst Castle for nearly three decades. In addition to her new biography about its talented architect (Julia Morgan: An Intimate Biography of the Trailblazing Architect)\, she has also written three volumes chronicling its fascinating history: Hearst Castle: The Biography of a Country House; Hearst’s San Simeon: The Gardens and the Land; and Hearst Ranch: Family\, Land\, and Legacy. Ms. Kastner has a Master’s degree in Public History with a specialty in architectural history from the University of California at Santa Barbara\, and a Master’s degree in Museum Management from George Washington University. She has also published works on the Beverly Hills Hotel\, Bernard Maybeck’s Palace of Fine Arts in San Francisco\, and the novels of Charles Dickens. https://victoriakastner.com/ \nOctober 10\, 2024\n6:00 pm reception/6:30 pm program\nThe Mercantile Library\n414 Walnut Street\, #1100\, Cincinnati\, OH
URL:https://victoriakastner.com/event/aia-cincinnati-women-you-should-know-series-julia-morgan/
LOCATION:The Mercatile Library\, 414 Walnut Street\, #1100\, Cincinnati\, OH\, United States
CATEGORIES:Lecture
ATTACH;FMTTYPE=image/jpeg:https://victoriakastner.com/wp-content/uploads/2024/08/AIA-Cincinnati.jpg
END:VEVENT
END:VCALENDAR