BEGIN:VCALENDAR
VERSION:2.0
PRODID:-//Victoria Kastner - ECPv6.15.16//NONSGML v1.0//EN
CALSCALE:GREGORIAN
METHOD:PUBLISH
X-ORIGINAL-URL:https://victoriakastner.com
X-WR-CALDESC:Events for Victoria Kastner
REFRESH-INTERVAL;VALUE=DURATION:PT1H
X-Robots-Tag:noindex
X-PUBLISHED-TTL:PT1H
BEGIN:VTIMEZONE
TZID:UTC
BEGIN:STANDARD
TZOFFSETFROM:+0000
TZOFFSETTO:+0000
TZNAME:UTC
DTSTART:20210101T000000
END:STANDARD
END:VTIMEZONE
BEGIN:VEVENT
DTSTART;VALUE=DATE:20240929
DTEND;VALUE=DATE:20240930
DTSTAMP:20260421T204021
CREATED:20240726T211410Z
LAST-MODIFIED:20240726T211410Z
UID:5181-1727568000-1727654399@victoriakastner.com
SUMMARY:2024 Doors Open California at The Monday Club
DESCRIPTION:2024 Doors Open California\nat \nThe Monday Club\nGuest Speaker\nVictoria Kastner\nAuthor of Julia Morgan: \nAn Intimate Biography of the Trailblazing Architect\nOn Sunday\, September 29th\, 2024\n\nDoors Open California (https://californiapreservation.org/doca/) is a two-day celebration of architecture and culture featuring more than 70 on-site tours and access to historic places across the state. \nBring your friends and family to as many of the independently operated sites as you can visit in one weekend\, for a flat fee of $20 per person\, or just stop by The Monday Club\, free to the public. Also\, Victoria Kastner\, author of Julia Morgan: An Intimate Biography of the Trailblazing Architect\, will be our guest speaker at The Monday Club on \nSunday\, September 29th. \nRSVP Here to join us.\n \nLearn more and register to visit all participating sites in California at: https://californiapreservation.org/doca/  \nSave the Date! More information to follow.
URL:https://victoriakastner.com/event/2024-doors-open-california-at-the-monday-club/
LOCATION:The Monday Club\, 1815 Monterey Street\, San Luis Obispo\, 93401\, United States
CATEGORIES:Lecture
ATTACH;FMTTYPE=image/jpeg:https://victoriakastner.com/wp-content/uploads/2024/07/611-100-PM-–-400-PM-Monday-Club-–-Julia-Morgan-Lecture-and-tour1.jpg
END:VEVENT
BEGIN:VEVENT
DTSTART;TZID=UTC:20220612T130000
DTEND;TZID=UTC:20220612T160000
DTSTAMP:20260421T204021
CREATED:20220510T222145Z
LAST-MODIFIED:20220518T212219Z
UID:1298-1655038800-1655049600@victoriakastner.com
SUMMARY:Monday Club -- Julia Morgan Lecture and Tour
DESCRIPTION:Join us for Doors Open California! You will have an unprecedented opportunity to see “behind-the-scenes”  through in-person historical tours and virtual storytelling events. Explore places off the beaten path and meet field experts\, tour guides\, and subject matter experts. \nThis year’s Doors Open California\, our first-ever\, will highlight more than 75 unique and fascinating places in all corners of the state. Looking for something specific? Check out our Highlight Categories including Women\, Early California\, Diversity\, and Architectural Gems. \nYou will have access to the full spectrum of programs on the weekend. Simply pre-register and reserve your spots. Plan your trip and look for the docents with Doors Open California logos. \n6/12\, 1:00 PM – 4:00 PM\nMonday Club – Julia Morgan Lecture and tour\nSan Luis Obispo (1934) – Women \nA visit to The Monday Club is a unique opportunity to tour a 1934 vintage women’s club designed by Architect Julia Morgan. During the first quarter of the 20th century Julia Morgan was the first woman granted an architectural license in California\, the 19th Amendment granting women a constitutional right to vote was ratified by Congress\, and The Monday Club was founded by a dynamic group of women in 1924. Similarly significant contributions by civic-minded women were being made elsewhere in California and in the world. \nVisitors to The Monday Club will enjoy viewing original architectural features including murals\, hardwood herringbone floors and the open truss system that was a recurring element in many of Miss Morgan’s buildings. \nIntegral to appreciating the history of The Monday Club is an understanding of what was occurring elsewhere in our country and the world during this period. On display will be an educational timeline that we have created depicting 100 years of history and events in San Luis Obispo\, California and the world. Interpretive discussion of the timeline will be part of the docent-led tours that will be ongoing throughout the Doors Open event scheduled lecture by a Julia Morgan historian will also be part of the event. \nHosting Organization –\n \nThe Monday Clubhouse Conservancy – https://www.themondayclubslo.org/OUR-HISTORY \nRegister Here \n 
URL:https://victoriakastner.com/event/monday-club-julia-morgan-lecture-and-tour/
LOCATION:The Monday Club\, 1815 Monterey Street\, San Luis Obispo\, 93401\, United States
CATEGORIES:Appearance
ATTACH;FMTTYPE=image/png:https://victoriakastner.com/wp-content/uploads/2022/05/Screen-Shot-2022-05-12-at-5.04.42-PM.png
END:VEVENT
BEGIN:VEVENT
DTSTART;TZID=UTC:20220419T120000
DTEND;TZID=UTC:20220419T130000
DTSTAMP:20260421T204021
CREATED:20220330T234710Z
LAST-MODIFIED:20220415T040746Z
UID:1068-1650369600-1650373200@victoriakastner.com
SUMMARY:California Preservation Foundation\, Julia Morgan's California
DESCRIPTION:Julia Morgan’s California – An Illustrated Virtual Lunch-time Hour \nDuring her remarkable fifty-year career\, California architect Julia Morgan designed 700 buildings\, more than half of which were completed before women even had won the right to vote. In 2014\, more than sixty years after she closed her office\, the American Institute of Architects posthumously awarded her the Gold Medal\, its most prestigious honor. She was the first woman recipient in the award’s 100-year history. \nThis one-hour illustrated talk will explore this native daughter’s incomparable legacy. Hearst Castle may be her best-known project\, but her architecture surrounds and inspires us in such cities as Lake Tahoe\, Grass Valley\, Sacramento\, San Francisco\, Oakland\, Berkeley\, Monterey\, Fresno\, Bakersfield\, Santa Barbara\, Los Angeles\, Riverside\, and San Pedro. Kastner will highlight the stories behind many of Morgan’s buildings\, and also draw attention to those which are at risk of destruction. \n“Julia Morgan’s California” will expand our understanding and appreciation of her extraordinary life and legacy.
URL:https://victoriakastner.com/event/california-preservation-foundation-julia-morgans-california/
ATTACH;FMTTYPE=image/png:https://victoriakastner.com/wp-content/uploads/2022/03/Screen-Shot-2022-03-30-at-4.45.29-PM.png
END:VEVENT
END:VCALENDAR