BEGIN:VCALENDAR
VERSION:2.0
PRODID:-//Victoria Kastner - ECPv6.15.16//NONSGML v1.0//EN
CALSCALE:GREGORIAN
METHOD:PUBLISH
X-WR-CALNAME:Victoria Kastner
X-ORIGINAL-URL:https://victoriakastner.com
X-WR-CALDESC:Events for Victoria Kastner
REFRESH-INTERVAL;VALUE=DURATION:PT1H
X-Robots-Tag:noindex
X-PUBLISHED-TTL:PT1H
BEGIN:VTIMEZONE
TZID:UTC
BEGIN:STANDARD
TZOFFSETFROM:+0000
TZOFFSETTO:+0000
TZNAME:UTC
DTSTART:20230101T000000
END:STANDARD
END:VTIMEZONE
BEGIN:VEVENT
DTSTART;TZID=UTC:20240928T130000
DTEND;TZID=UTC:20240928T143000
DTSTAMP:20260421T220941
CREATED:20240814T184844Z
LAST-MODIFIED:20240815T181104Z
UID:5219-1727528400-1727533800@victoriakastner.com
SUMMARY:Hearst Castle Preservation Foundation Benefit Weekend
DESCRIPTION:William Randolph Hearst’s Castle at San Simeon\, California\, is one of the most popular and well-known historical homes in the world. \nThe Hearst Castle Preservation Foundation’s primary mission is to help preserve and restore the Hearst Castle’s twenty five thousand artifacts. We do this so that millions of visitors can continue to enjoy this unique state park as it provides financial support to the entire California State Park System. \nHEARST CASTLE PRESERVATION FOUNDATION\nBENEFIT WEEKEND\nwith \nVictoria Kastner\nAuthor of Julia Morgan: An Intimate Biography of the Trailblazing Architect\nSaturday\, September 28\, 2024\n1:00 PM\nMembers Only
URL:https://victoriakastner.com/event/hearst-castle-preservation-foundation-benefit-weekend/
LOCATION:San Simeon Village\, San Simeon\, 93452\, United States
ATTACH;FMTTYPE=image/jpeg:https://victoriakastner.com/wp-content/uploads/2024/08/2024-Hearst-Castle-Preservation-Foundation-Benefit-Weekend.jpg
END:VEVENT
END:VCALENDAR