BEGIN:VCALENDAR
VERSION:2.0
PRODID:-//Victoria Kastner - ECPv6.15.16//NONSGML v1.0//EN
CALSCALE:GREGORIAN
METHOD:PUBLISH
X-WR-CALNAME:Victoria Kastner
X-ORIGINAL-URL:https://victoriakastner.com
X-WR-CALDESC:Events for Victoria Kastner
REFRESH-INTERVAL;VALUE=DURATION:PT1H
X-Robots-Tag:noindex
X-PUBLISHED-TTL:PT1H
BEGIN:VTIMEZONE
TZID:UTC
BEGIN:STANDARD
TZOFFSETFROM:+0000
TZOFFSETTO:+0000
TZNAME:UTC
DTSTART:20210101T000000
END:STANDARD
END:VTIMEZONE
BEGIN:VEVENT
DTSTART;VALUE=DATE:20220423
DTEND;VALUE=DATE:20220425
DTSTAMP:20260421T235722
CREATED:20220304T011413Z
LAST-MODIFIED:20220324T234258Z
UID:905-1650672000-1650844799@victoriakastner.com
SUMMARY:Los Angeles Book Festival
DESCRIPTION:Los Angeles Book Festival on April 23-24\, 2022\, on the USC Campus.\nSince 1996\, The Los Angeles Times Festival of Books has gathered writers\, poets\, artists\, filmmakers\, musicians and emerging storytellers. Now in its 27th year\, it is the largest event of its kind in the United States \nThe festival is one of the largest and most celebrated literary events in the country. More than 150\,000 people attend the event on the University of Southern California (USC) campus every year. Authors in past years have included George Saunders\, Karamo Brown\, Sandra Cisneros\, Margaret Atwood\, John Green\, Judy Blume\, Joan Didion\, Chelsea Clinton\, Walter Mosley\, Malcolm Gladwell\, Congressman John Lewis\, Marilynne Robinson\, Diana Gabaldon and many others. \nReturning on April 23-24 to USC for a weekend of indoor and outdoor events\, hundreds of exhibitor booths\, author signings\, performances\, and free activities.
URL:https://victoriakastner.com/event/los-angeles-book-festival/
LOCATION:USC Campus\, University Park\, Los Angeles\, 90089\, United States
CATEGORIES:Appearance
ATTACH;FMTTYPE=image/png:https://victoriakastner.com/wp-content/uploads/2022/03/Screen-Shot-2022-03-08-at-1.12.40-PM.png
END:VEVENT
END:VCALENDAR