BEGIN:VCALENDAR
VERSION:2.0
PRODID:-//Victoria Kastner - ECPv6.15.16//NONSGML v1.0//EN
CALSCALE:GREGORIAN
METHOD:PUBLISH
X-WR-CALNAME:Victoria Kastner
X-ORIGINAL-URL:https://victoriakastner.com
X-WR-CALDESC:Events for Victoria Kastner
REFRESH-INTERVAL;VALUE=DURATION:PT1H
X-Robots-Tag:noindex
X-PUBLISHED-TTL:PT1H
BEGIN:VTIMEZONE
TZID:UTC
BEGIN:STANDARD
TZOFFSETFROM:+0000
TZOFFSETTO:+0000
TZNAME:UTC
DTSTART:20230101T000000
END:STANDARD
END:VTIMEZONE
BEGIN:VEVENT
DTSTART;TZID=UTC:20240317T150000
DTEND;TZID=UTC:20240317T163000
DTSTAMP:20260422T021821
CREATED:20240217T022716Z
LAST-MODIFIED:20240217T022827Z
UID:5061-1710687600-1710693000@victoriakastner.com
SUMMARY:Mare Island Historical Park Foundation-Alibi Bookstore Lecture and Book Signing
DESCRIPTION:Speakers Series: The Life of Julia Morgan –\nA Trailblazing Architect\n\n\nMarch 17\, 2024 \n3:00 PM \n\nSt. Peter’s Chapel: 1181 Walnut Ave\n\n\n\n\n\n\n\n\n\n\n\n‍\nLecture By: Victoria Kastner\, author of\nJulia Morgan: An Intimate Biography of the Trailblazing Architect.‍\n  \nIn celebration of Women’s History Month\, MIHPF and Alibi Books join forces to present a lecture on the noted architect Julia Morgan by author Victoria Kastner.  This topic is especially relevant to our local community\, given the many of Arts & Crafts structures and the beautiful Julia Morgan home\, the Wilson House\, here in Vallejo. \nKastner will pull from her noted biography as she introduces Julia Morgan as a pioneering architect and a captivating individual. Kastner’s research for her book draws heavily on interviews\, letters\, and Morgan’s diaries\, including never-before-seen reflections on faith\, art\, and her life experiences. It will cover Morgan’s friendship with Hearst\, her passion for California’s landscape\, and her devotion to architecture that reveal her to have been a singularly brilliant and determined artist. \nA book signing by Kastner will directly follow the lecture.  You can purchase Julia Morgan: An Intimate Biography of the Trailblazing Architect at the event or at AlibiBookshop located at 624 Marin in downtown Vallejo. \nTickets are limited!  Purchase your tickets today. \n\nTickets: $15; MIHPF members receive a $5 discount.\n\n\n\n\nTickets
URL:https://victoriakastner.com/event/mare-island-historical-park-foundation-alibi-bookstore-lecture-and-book-signing/
LOCATION:St. Peter’s Chapel\, Mare Island\, 1181 Walnut Avenue\, Mare Island\, Vallejo\, CA\, United States
CATEGORIES:Lecture
ATTACH;FMTTYPE=image/jpeg:https://victoriakastner.com/wp-content/uploads/2024/02/Alibi-Bookshop-and-Mare-Island.jpg
ORGANIZER;CN="Mare Island Historical Park Foundation":MAILTO:info@mihpf.org
END:VEVENT
END:VCALENDAR