BEGIN:VCALENDAR
VERSION:2.0
PRODID:-//Victoria Kastner - ECPv6.15.16//NONSGML v1.0//EN
CALSCALE:GREGORIAN
METHOD:PUBLISH
X-ORIGINAL-URL:https://victoriakastner.com
X-WR-CALDESC:Events for Victoria Kastner
REFRESH-INTERVAL;VALUE=DURATION:PT1H
X-Robots-Tag:noindex
X-PUBLISHED-TTL:PT1H
BEGIN:VTIMEZONE
TZID:UTC
BEGIN:STANDARD
TZOFFSETFROM:+0000
TZOFFSETTO:+0000
TZNAME:UTC
DTSTART:20210101T000000
END:STANDARD
END:VTIMEZONE
BEGIN:VEVENT
DTSTART;TZID=UTC:20220305T120000
DTEND;TZID=UTC:20220305T133000
DTSTAMP:20260422T003747
CREATED:20210818T064531Z
LAST-MODIFIED:20220310T002753Z
UID:738-1646481600-1646487000@victoriakastner.com
SUMMARY:Victorian Society in America Virtual Lecture
DESCRIPTION:Victorian Society in America\, Virtual Lecture\, March 5\, 2022\, at 3 p.m. ET\, 12 p.m. PST. \nMy virtual lecture for the Victorian Society in America\, “Julia Morgan: An Intimate Portrait\,” was presented live on March 5th\, at 3pm ET. This was the last lecture in the Victorian Society’s “Women Artists\, Designers\, Architects” series. \nIf you missed the lecture or would like to view it again\, a recording of my lecture has been graciously made available online for two weeks until March 21\, 2022\, by the VSA.  The link is available on the Society’s Lectures web page at https://victoriansociety.org/lectures-2/
URL:https://victoriakastner.com/event/lecture/
LOCATION:Online Event
CATEGORIES:Virtual Lecture
ATTACH;FMTTYPE=image/jpeg:https://victoriakastner.com/wp-content/uploads/2021/08/book_cover@2x.jpg
END:VEVENT
END:VCALENDAR