BEGIN:VCALENDAR
VERSION:2.0
PRODID:-//Victoria Kastner - ECPv6.15.16//NONSGML v1.0//EN
CALSCALE:GREGORIAN
METHOD:PUBLISH
X-WR-CALNAME:Victoria Kastner
X-ORIGINAL-URL:https://victoriakastner.com
X-WR-CALDESC:Events for Victoria Kastner
REFRESH-INTERVAL;VALUE=DURATION:PT1H
X-Robots-Tag:noindex
X-PUBLISHED-TTL:PT1H
BEGIN:VTIMEZONE
TZID:UTC
BEGIN:STANDARD
TZOFFSETFROM:+0000
TZOFFSETTO:+0000
TZNAME:UTC
DTSTART:20210101T000000
END:STANDARD
END:VTIMEZONE
BEGIN:VEVENT
DTSTART;TZID=UTC:20220826T110000
DTEND;TZID=UTC:20220828T130000
DTSTAMP:20260421T234520
CREATED:20220602T192804Z
LAST-MODIFIED:20220807T010731Z
UID:1379-1661511600-1661691600@victoriakastner.com
SUMMARY:The Sonoma Valley Authors Festival
DESCRIPTION:  \n\n\n\nThe Sonoma Valley Authors Festival is a 3-day weekend lecture series that brings people together to hear authors from a variety of literary genres. \nThe 2022 Festival will take place from August 26-28\, 2022 at the Fairmont Sonoma Mission Inn.\nThe Festival attracts people who are committed to lifelong learning; many are at a stage in life where experiences are of more value than things and they enjoy vacations with a purpose. \nSpeakers discuss advances being made in science\, technology\, and medicine\, as well as current issues in a “TED-talk” style format that includes “main tent” and breakout sessions. \n\nClick here to view the remarkable roster of speakers who will join us as we gather again together in person for the 5th Annual Sonoma Valley Authors Festival! \n“A reader lives a thousand lives before he dies\, said Jojen.\nThe man who never reads lives only one.”\n– George R.R. Martin \n\n\n  \n\nSecure your attendance now and get ready with the 2022 Reading List! \n\n\n\n  \n\n\n\n  \n\n\n\n\n\n 
URL:https://victoriakastner.com/event/the-sonoma-valley-authors-festival/
LOCATION:Fairmont Sonoma Mission Inn
CATEGORIES:Appearance
ATTACH;FMTTYPE=image/png:https://victoriakastner.com/wp-content/uploads/2022/06/Screen-Shot-2022-08-06-at-5.53.48-PM.png
END:VEVENT
END:VCALENDAR