BEGIN:VCALENDAR
VERSION:2.0
PRODID:-//Victoria Kastner - ECPv6.15.16//NONSGML v1.0//EN
CALSCALE:GREGORIAN
METHOD:PUBLISH
X-WR-CALNAME:Victoria Kastner
X-ORIGINAL-URL:https://victoriakastner.com
X-WR-CALDESC:Events for Victoria Kastner
REFRESH-INTERVAL;VALUE=DURATION:PT1H
X-Robots-Tag:noindex
X-PUBLISHED-TTL:PT1H
BEGIN:VTIMEZONE
TZID:UTC
BEGIN:STANDARD
TZOFFSETFROM:+0000
TZOFFSETTO:+0000
TZNAME:UTC
DTSTART:20230101T000000
END:STANDARD
END:VTIMEZONE
BEGIN:VEVENT
DTSTART;TZID=UTC:20240926T093000
DTEND;TZID=UTC:20240926T223000
DTSTAMP:20260421T231452
CREATED:20240323T235509Z
LAST-MODIFIED:20240923T215636Z
UID:5148-1727343000-1727389800@victoriakastner.com
SUMMARY:Village Garden Club of La Jolla Lecture
DESCRIPTION:The Village Garden Club was founded in 1974 by a small group of women with fresh ideas and much enthusiasm. Now\, 47 years later we have a large\, strong membership\, each contributing and sharing their own unique talents. We meet in La Jolla\, California\, which is located in San Diego County. Our club is one of the most dynamic in the Palomar District\, providing an outstanding schedule of programs\, field trips\, workshops and other activities throughout the year. The club’s objectives continue to guide us in planning projects and programs. \nJoin Our \n\n\n\nSeptember Program:\nHearst Castle in San Simeon\n\n\nVictoria Kastner\nJulia Morgan: Her Personal Story\nThursday\, September 26\, 2024\n9:30 a.m.–Hospitality Hour\n10:30 a.m.–Meeting and program\nGood Samaritan Episcopal Church\nopen to guests – $30 guest fee\n  \n\n\n\n\n\n \n \n\n\n\n\n\n\n\n\n\n\nWe are proud to have famed author and former historian of the Hearst Castle\, Victoria Kastner\, as our speaker. Victoria wrote the definitive trilogy on the history of William Randolph Hearst’s grand estate at San Simeon as well as a new book on Julia Morgan\, who was the world’s most prominent female architect and designer of Hearst Castle. \nVictoria has generously given many lectures to garden clubs and has mesmerized audiences with her stories about Hearst’s family\, gardens\, land and legacy and never-before-told anecdotes about Morgan’s personal and professional life. \nThis is a program that you definitely won’t want to miss! \n\n\n\n\n=
URL:https://victoriakastner.com/event/village-garden-club-of-la-jolla-lecture/
LOCATION:Good Samaritan Episcopal Church\, 4321 Eastgate Mall\, San Diego\, CA\, 92121\, United States
CATEGORIES:Lecture
ATTACH;FMTTYPE=image/jpeg:https://victoriakastner.com/wp-content/uploads/2024/03/Village-Garden-Club-of-La-Jolla-2.jpg
END:VEVENT
END:VCALENDAR