BEGIN:VCALENDAR
VERSION:2.0
PRODID:-//Victoria Kastner - ECPv6.15.16//NONSGML v1.0//EN
CALSCALE:GREGORIAN
METHOD:PUBLISH
X-ORIGINAL-URL:https://victoriakastner.com
X-WR-CALDESC:Events for Victoria Kastner
REFRESH-INTERVAL;VALUE=DURATION:PT1H
X-Robots-Tag:noindex
X-PUBLISHED-TTL:PT1H
BEGIN:VTIMEZONE
TZID:UTC
BEGIN:STANDARD
TZOFFSETFROM:+0000
TZOFFSETTO:+0000
TZNAME:UTC
DTSTART:20210101T000000
END:STANDARD
END:VTIMEZONE
BEGIN:VEVENT
DTSTART;TZID=UTC:20220603T160000
DTEND;TZID=UTC:20220603T171500
DTSTAMP:20260422T022228
CREATED:20220430T000621Z
LAST-MODIFIED:20220430T034137Z
UID:1252-1654272000-1654276500@victoriakastner.com
SUMMARY:Julia Morgan: Trailblazing Architect
DESCRIPTION:Julia Morgan: Trailblazing Architect\nPresented by Victoria Kastner\nJune 3\, 2022\, 4:00 p.m. to 5:15 p.m.\nFree\nVirtual Lecture\nNew England Historic Genealogical Society\nModerated by Curt DiCamillo\nJoin Victoria Kastner\, author of Julia Morgan: An Intimate Biography of the Trailblazing Architect\, as she reveals the inspiring story of Julia Morgan\, the first renowned female architect in history. Born 150 years ago\, Julia’s future seemed certain: marriage\, then motherhood\, then the genteel pursuits of a society matron. Instead\, she courageously forged her own path building over 700 structures including William Randolph Hearst’s lavish San Simeon estate. It is an impressive legacy of strong\, useful\, and beautiful buildings that honor and delight everyone who enters them. Posthumously in 2014\, Julia was the first woman to receive the American Institute of Architects’ prestigious Gold Medal. \nRegister Here\nImage credit: Hearst Castles famous Neptune pool by Surfside
URL:https://victoriakastner.com/event/julia-morgan-trailblazing-architect/
LOCATION:New England Historic Genealogical Society\, 99-101 Newbury Street\, Boston\, MA\, 02116-3007\, United States
ATTACH;FMTTYPE=image/png:https://victoriakastner.com/wp-content/uploads/2022/04/Screen-Shot-2022-04-29-at-5.03.13-PM.png
END:VEVENT
END:VCALENDAR