BEGIN:VCALENDAR
VERSION:2.0
PRODID:-//Victoria Kastner - ECPv6.15.16//NONSGML v1.0//EN
CALSCALE:GREGORIAN
METHOD:PUBLISH
X-ORIGINAL-URL:https://victoriakastner.com
X-WR-CALDESC:Events for Victoria Kastner
REFRESH-INTERVAL;VALUE=DURATION:PT1H
X-Robots-Tag:noindex
X-PUBLISHED-TTL:PT1H
BEGIN:VTIMEZONE
TZID:UTC
BEGIN:STANDARD
TZOFFSETFROM:+0000
TZOFFSETTO:+0000
TZNAME:UTC
DTSTART:20230101T000000
END:STANDARD
END:VTIMEZONE
BEGIN:VEVENT
DTSTART;TZID=UTC:20240519T160000
DTEND;TZID=UTC:20240519T180000
DTSTAMP:20260421T234033
CREATED:20231025T195123Z
LAST-MODIFIED:20231025T195123Z
UID:4987-1716134400-1716141600@victoriakastner.com
SUMMARY:Saratoga Foothill Club Lecture
DESCRIPTION:Saratoga Foothill Club\nPublic Event Series\, 2024\nPresents \nVictoria Kastner\nAuthor of Julia Morgan: An Intimate Biography of the Trailblazing Architect\nMay 19\, 2024\, 4:00 – 6:00 P.M.\n  \nFounded in 1907 as a study club to broaden their education and discuss community concerns\, members of the Saratoga Foothill Club continue their focus on civic and social issues and cultural topics. A popular Art Lecture series for community and club members presented by a university art historian provides in-depth exploration of the visual arts and artistic movements. The Public Lecture Series focuses on community concerns and presents performing artists. Many members are active in the local community and county serving as elected officials on school boards\, city councils\, or city and county commissions and nonprofit boards. Currently close to 15% of the members have been active for more than 25 years. \nMembers promote a spirit of friendliness through monthly teas or luncheons with prominent speakers covering current political\, environmental\, and cultural topics. The Garden Club\, small book clubs\, and specific interest groups provide opportunities for informal interactions among members. \nThe Julia Morgan-designed redwood clubhouse and grounds opened its doors in 1915 and continues to host meetings and activities of the club\, as well as\, civic activities\, memorials and weddings. Club members take great pride in maintaining its historic and architectural integrity. \nPlease join us to learn more about the architect of our clubhouse on the evening of May 19th\, 2024\, at 4-6 p.m.. Author and Historian Victoria Kastner will share additional details on the private life of Architect Julia Morgan\, a captivating tale of courage\, vision\, and resilience. \nClick here to purchase tickets. \n 
URL:https://victoriakastner.com/event/saratoga-foothill-club-lecture/
LOCATION:Saratoga Foothill Club\, 20399 Park Place\, Saratoga\, CA\, 95070\, United States
CATEGORIES:Lecture
ATTACH;FMTTYPE=image/jpeg:https://victoriakastner.com/wp-content/uploads/2023/10/Foothill-club.jpg
END:VEVENT
END:VCALENDAR