BEGIN:VCALENDAR
VERSION:2.0
PRODID:-//Victoria Kastner - ECPv6.15.16//NONSGML v1.0//EN
CALSCALE:GREGORIAN
METHOD:PUBLISH
X-WR-CALNAME:Victoria Kastner
X-ORIGINAL-URL:https://victoriakastner.com
X-WR-CALDESC:Events for Victoria Kastner
REFRESH-INTERVAL;VALUE=DURATION:PT1H
X-Robots-Tag:noindex
X-PUBLISHED-TTL:PT1H
BEGIN:VTIMEZONE
TZID:UTC
BEGIN:STANDARD
TZOFFSETFROM:+0000
TZOFFSETTO:+0000
TZNAME:UTC
DTSTART:20220101T000000
END:STANDARD
END:VTIMEZONE
BEGIN:VEVENT
DTSTART;TZID=UTC:20230429T104500
DTEND;TZID=UTC:20230429T150000
DTSTAMP:20260421T234033
CREATED:20230423T210447Z
LAST-MODIFIED:20230425T211754Z
UID:4804-1682765100-1682780400@victoriakastner.com
SUMMARY:St. James Presbyterian Church Centennial Celebration
DESCRIPTION:St. James Presbyterian Church\, Visitacion Valley\nSt. James Presbyterian Church designed by architect Julia Morgan celebrates its Centennial as well as being designated Visitacion Valley’s First Historical Landmark\, Building No. 308!\nApril 29\, 2023\n10:45 a.m. to 3:00 p.m.\nWelcome & Celebrate Building’s Historical Landmarking\, Centennial Milestone\,and 115th Church Anniversary \n10:45 Unveiling of Plaque and Mosaic Cross11:00 Welcome and Words of GratitudeSF District 10 Supervisor Mr. Shamann WaltonRev. Dr. Grace Kaori Suzuki\, Co–Moderator ofPresbytery of SFRev. Inho Kim\, Executive Partner for CongregationalVitality & Clergy Support\, Presbytery of SFRussel Morine\, Visitacion Valley History Project11:30 Video presentation11:45 Julia Morgan: Transcendent Beauty\,by Wm. “Mark” Parry12:15 Video presentation12:30 Reception at Fellowship Hall downstairs &Tour of church’s historical displays1:30 Video presentation1:45 Julia Morgan: An Intimate Biography of theTrailblazing Architect\, by Victoria Kastner2:15 Book signing with Ms. Kastner2:30 Story–telling time: past\, present\, and future3:00 Thanks to all! \nModerator:Fernando del Rosario Jr.\, Pastor
URL:https://victoriakastner.com/event/st-james-presbyterian-church-centennial-celebration/
LOCATION:St. James Presyterian Church\, 240 Leland Avenue\, San Francisco\, CA\, 94143\, United States
ATTACH;FMTTYPE=image/png:https://victoriakastner.com/wp-content/uploads/2023/04/Screenshot-2023-04-22-at-9.46.50-AM.png
END:VEVENT
END:VCALENDAR