BEGIN:VCALENDAR
VERSION:2.0
PRODID:-//Victoria Kastner - ECPv6.15.16//NONSGML v1.0//EN
CALSCALE:GREGORIAN
METHOD:PUBLISH
X-ORIGINAL-URL:https://victoriakastner.com
X-WR-CALDESC:Events for Victoria Kastner
REFRESH-INTERVAL;VALUE=DURATION:PT1H
X-Robots-Tag:noindex
X-PUBLISHED-TTL:PT1H
BEGIN:VTIMEZONE
TZID:UTC
BEGIN:STANDARD
TZOFFSETFROM:+0000
TZOFFSETTO:+0000
TZNAME:UTC
DTSTART:20220101T000000
END:STANDARD
END:VTIMEZONE
BEGIN:VEVENT
DTSTART;TZID=UTC:20241001T103000
DTEND;TZID=UTC:20241001T130000
DTSTAMP:20260421T164810
CREATED:20240815T185631Z
LAST-MODIFIED:20240815T185631Z
UID:5228-1727778600-1727787600@victoriakastner.com
SUMMARY:Friends of Robinson Gardens Lecture
DESCRIPTION:Join the \nFRIENDS OF ROBINSON GARDENS\nWith \nVICTORIA KASTNER\nAuthor of \nJulia Morgan: An Intimate Biography of the Trailblazing Architect\non \nPioneering Architect\, Julia Morgan\nTuesday\, October 1\, 2024\n10:30am – Mimosas\, 11:00am – Lecture\, 12:00pm – Lunch\nJulia Morgan was a lifelong trailblazer. She was the first woman admitted to study architecture at the École des Beaux-Arts in Paris and the first licensed to practice architecture in California. Over the first half of the 20th century\, she left an indelible mark on the American West. Of her remarkable 700 creations\, the most iconic is Hearst Castle. Morgan spent thirty years constructing this opulent estate on the California coast for the newspaper magnate William Randolph Hearst—forging a lifelong friendship and creative partnership with him. Together\, they built a spectacular and unequaled residence that once hosted the biggest stars of Hollywood’s golden age\, and that now welcomes hundreds of thousands of visitors each year. \n$95 Members \n$105 Non-members \nTo register by phone\, call the FRIENDS OF ROBINSON GARDENS Office at \n310.550.2068
URL:https://victoriakastner.com/event/friends-of-robinson-gardens-lecture/
LOCATION:The Virginia Robinson Gardens\, 1008 Elden Way\, Beverly Hills\, CA\, 90210\, United States
CATEGORIES:Lecture
ATTACH;FMTTYPE=image/jpeg:https://victoriakastner.com/wp-content/uploads/2024/08/Add-a-little-bit-of-bod-y-text.jpg
END:VEVENT
BEGIN:VEVENT
DTSTART;VALUE=DATE:20230520
DTEND;VALUE=DATE:20230521
DTSTAMP:20260421T164810
CREATED:20230403T225505Z
LAST-MODIFIED:20230403T225901Z
UID:4774-1684540800-1684627199@victoriakastner.com
SUMMARY:"Back in Bloom" 2023 Garden Tour at The Virginia Robinson Gardens
DESCRIPTION:Don’t Miss the Garden Party of the Year: “Back in Bloom” 2023 Garden Tour and Showcase House Awaits You!\n  \nThe Friends of Robinson Gardens is very pleased to present its long-anticipated Garden Tour\, now open to the public on May 20\, 2023\, at The Virginia Robinson Gardens\, co-chaired by past President Betty Goldstein\, Elaine Stein\, and Nicole Antoine. The romantic theme\, “Back in Bloom\,” along with the invitation was conceived by co-chair Elaine. It celebrates a new beginning and the return to VRG’s beloved Garden Tour after a three-year hiatus. Betty explained\, “This is our premier fundraiser where funds are raised for the restoration needs of the estate and the Children’s Science program which has served more than 5\,000 children throughout the pandemic years\, keeping Mrs. Robinson’s legacy for the welfare of children alive. We are excited to be able to have this event again and hope you can join us. Tickets will be available on our website soon. See you there!” \nConsidered the most glamorous fundraiser of its kind in Southern California\, the tour will feature four magnificent private gardens to visit as well as the historic gardens at Robinson Gardens. Maralee Beck said\, “We are happily ‘Back in Bloom’: the blessed rains have helped the parched earth\, and the four private gardens – and our own VRG – have emerged verdant\, fruitful\, and also a-bloom in art & architecture.” \nBack at the estate\, built in 1911\, a truly gorgeous sight to behold is the transformation of select rooms of the main house into visions of enchanting beauty by top florists.  A not-to-be-missed highlight of the event\, the floral designers’ inspiring creations conjure a “feast for the soul.” \nThis year\, the Friends are proud to honor famed author and former historian of the Hearst Castle Victoria Kastner as the Grand Marshal. She will be signing her new book\, Julia Morgan: An Intimate Biography of the Trailblazing Architect\, already in its third printing. An inspiring and fascinating speaker who is passionate about her subjects\, Victoria has generously given many lectures at Robinson Gardens to mesmerized audiences about Hearst Castle\, William Randolph Hearst\, and Fred Astaire\, among other topics. \n\n\n\nCulinary delights are another favorite part of this elegant garden party. Under a tent on the Great Lawn\, Sean Murphy Catering & Events will be serving a sumptuous luncheon. (Sean’s father\, Jimmy Murphy\, was the owner of the iconic and elegant restaurant Jimmy’s in Beverly Hills\, which closed in 2000.) Adding to the delectable feast\, Joss Cuisine\, an exceptional Chinese restaurant\, will be offering tantalizing bites in the Kitchen. The signature coconut cake will also be served in the luscious display of desserts in the Pool Pavilion\, along with a plethora of cookies\, the Ivy’s iconic chocolate chip cookies and Red Velvet Cake\, and the very popular and exquisite chocolates from and Sons Chocolatiers. \nTickets will be available on our website soon. See you there!” \n 
URL:https://victoriakastner.com/event/back-in-bloom-2023-garden-tour-at-the-virginia-robinson-gardens/
LOCATION:The Virginia Robinson Gardens\, 1008 Elden Way\, Beverly Hills\, CA\, 90210\, United States
ATTACH;FMTTYPE=image/png:https://victoriakastner.com/wp-content/uploads/2023/04/Screenshot-2023-04-03-at-2.42.35-PM.png
END:VEVENT
END:VCALENDAR